BEGIN:VCALENDAR
VERSION:2.0
PRODID:-//American Legion, Peter J Courcy Post 178 - ECPv6.15.20//NONSGML v1.0//EN
CALSCALE:GREGORIAN
METHOD:PUBLISH
X-WR-CALNAME:American Legion, Peter J Courcy Post 178
X-ORIGINAL-URL:https://friscolegion.org
X-WR-CALDESC:Events for American Legion, Peter J Courcy Post 178
REFRESH-INTERVAL;VALUE=DURATION:PT1H
X-Robots-Tag:noindex
X-PUBLISHED-TTL:PT1H
BEGIN:VTIMEZONE
TZID:America/Chicago
BEGIN:DAYLIGHT
TZOFFSETFROM:-0600
TZOFFSETTO:-0500
TZNAME:CDT
DTSTART:20240310T080000
END:DAYLIGHT
BEGIN:STANDARD
TZOFFSETFROM:-0500
TZOFFSETTO:-0600
TZNAME:CST
DTSTART:20241103T070000
END:STANDARD
BEGIN:DAYLIGHT
TZOFFSETFROM:-0600
TZOFFSETTO:-0500
TZNAME:CDT
DTSTART:20250309T080000
END:DAYLIGHT
BEGIN:STANDARD
TZOFFSETFROM:-0500
TZOFFSETTO:-0600
TZNAME:CST
DTSTART:20251102T070000
END:STANDARD
BEGIN:DAYLIGHT
TZOFFSETFROM:-0600
TZOFFSETTO:-0500
TZNAME:CDT
DTSTART:20260308T080000
END:DAYLIGHT
BEGIN:STANDARD
TZOFFSETFROM:-0500
TZOFFSETTO:-0600
TZNAME:CST
DTSTART:20261101T070000
END:STANDARD
END:VTIMEZONE
BEGIN:VEVENT
DTSTART;TZID=America/Chicago:20250301T080000
DTEND;TZID=America/Chicago:20250301T090000
DTSTAMP:20260420T052431
CREATED:20250210T151451Z
LAST-MODIFIED:20250210T151451Z
UID:9101-1740816000-1740819600@friscolegion.org
SUMMARY:Post 178 Fitness Walk
DESCRIPTION:Post 178 Fitness Walk on the first Saturday of each month at 8 am. We will meet at Frisco Commons Park parking lot to start our 1-mile walk\, which takes an average of 21 min to complete. If you can’t make it at 8 am\, join us afterward with your lawn chair and cooler for the after-walk cool-down. Dogs are welcome but must be on a leash.
URL:https://friscolegion.org/event/post-178-fitness-walk-6/
LOCATION:Frisco Commons Park\, 8000 Mckinney Rd\, Frisco\, 75033\, United States
ATTACH;FMTTYPE=image/jpeg:https://friscolegion.org/wp-content/uploads/2024/09/1-mile-trail-map.jpg
END:VEVENT
BEGIN:VEVENT
DTSTART;TZID=America/Chicago:20250313T180000
DTEND;TZID=America/Chicago:20250313T200000
DTSTAMP:20260420T052431
CREATED:20250312T143032Z
LAST-MODIFIED:20250312T143032Z
UID:9216-1741888800-1741896000@friscolegion.org
SUMMARY:Never Forgotten: A Tribute to Vietnam Veterans
DESCRIPTION:  \nREGISTRATION IS REQUIRED!
URL:https://friscolegion.org/event/never-forgotten-a-tribute-to-vietnam-veterans/
LOCATION:Frisco Hall\, 5353 Independance Pkwy\, Frisco\, TX\, United States
CATEGORIES:Community
END:VEVENT
BEGIN:VEVENT
DTSTART;TZID=America/Chicago:20250315T080000
DTEND;TZID=America/Chicago:20250315T090000
DTSTAMP:20260420T052431
CREATED:20250224T135345Z
LAST-MODIFIED:20250224T135345Z
UID:9150-1742025600-1742029200@friscolegion.org
SUMMARY:Post 178 Fitness Walk
DESCRIPTION:Post 178 Fitness Walk on the third Saturday of each month at 8 am. We will meet at Frisco Commons Park parking lot to start our 1-mile walk\, which takes an average of 21 min to complete. If you can’t make it at 8 am\, join us afterward with your lawn chair and cooler for the after-walk cool-down. Dogs are welcome but must be on a leash.
URL:https://friscolegion.org/event/post-178-fitness-walk-9/
LOCATION:Frisco Commons Park\, 8000 Mckinney Rd\, Frisco\, 75033\, United States
ATTACH;FMTTYPE=image/jpeg:https://friscolegion.org/wp-content/uploads/2024/09/1-mile-trail-map.jpg
END:VEVENT
BEGIN:VEVENT
DTSTART;TZID=America/Chicago:20250317T183000
DTEND;TZID=America/Chicago:20250317T200000
DTSTAMP:20260420T052431
CREATED:20241220T151520Z
LAST-MODIFIED:20241220T151520Z
UID:8970-1742236200-1742241600@friscolegion.org
SUMMARY:Post Membership Meeting
DESCRIPTION:
URL:https://friscolegion.org/event/post-membership-meeting-22/
LOCATION:The Grove at Frisco Commons – Commons Hall\, 8300 McKinney Road\, Frisco\, TX\, 75034\, United States
CATEGORIES:Membership Meetings
END:VEVENT
END:VCALENDAR