BEGIN:VCALENDAR
VERSION:2.0
PRODID:-//American Legion, Peter J Courcy Post 178 - ECPv6.15.20//NONSGML v1.0//EN
CALSCALE:GREGORIAN
METHOD:PUBLISH
X-WR-CALNAME:American Legion, Peter J Courcy Post 178
X-ORIGINAL-URL:https://friscolegion.org
X-WR-CALDESC:Events for American Legion, Peter J Courcy Post 178
REFRESH-INTERVAL;VALUE=DURATION:PT1H
X-Robots-Tag:noindex
X-PUBLISHED-TTL:PT1H
BEGIN:VTIMEZONE
TZID:America/Chicago
BEGIN:DAYLIGHT
TZOFFSETFROM:-0600
TZOFFSETTO:-0500
TZNAME:CDT
DTSTART:20230312T080000
END:DAYLIGHT
BEGIN:STANDARD
TZOFFSETFROM:-0500
TZOFFSETTO:-0600
TZNAME:CST
DTSTART:20231105T070000
END:STANDARD
BEGIN:DAYLIGHT
TZOFFSETFROM:-0600
TZOFFSETTO:-0500
TZNAME:CDT
DTSTART:20240310T080000
END:DAYLIGHT
BEGIN:STANDARD
TZOFFSETFROM:-0500
TZOFFSETTO:-0600
TZNAME:CST
DTSTART:20241103T070000
END:STANDARD
BEGIN:DAYLIGHT
TZOFFSETFROM:-0600
TZOFFSETTO:-0500
TZNAME:CDT
DTSTART:20250309T080000
END:DAYLIGHT
BEGIN:STANDARD
TZOFFSETFROM:-0500
TZOFFSETTO:-0600
TZNAME:CST
DTSTART:20251102T070000
END:STANDARD
END:VTIMEZONE
BEGIN:VEVENT
DTSTART;TZID=America/Chicago:20241214T090000
DTEND;TZID=America/Chicago:20241214T143000
DTSTAMP:20260419T201746
CREATED:20240821T162530Z
LAST-MODIFIED:20240821T162530Z
UID:8648-1734166800-1734186600@friscolegion.org
SUMMARY:2025 Post 178 Oratorical Scholarship Competition
DESCRIPTION:The American Legion Post 178 is seeking high school orators to participate in its 2025 Oratorical Scholarship Contest which will be held on Saturday\, December 14\, 2024 at 9 am in the main auditorium at The Grove at Frisco Commons. \nFor details\, please visit https://friscolegion.org/programs/frisco-youth-programs/oratorical-scholarship-competition/
URL:https://friscolegion.org/event/2025-post-178-oratorical-scholarship-competition/
LOCATION:The Grove at Frisco Commons – Commons Hall\, 8300 McKinney Road\, Frisco\, TX\, 75034\, United States
CATEGORIES:Community,Oratorical
END:VEVENT
END:VCALENDAR