BEGIN:VCALENDAR
VERSION:2.0
PRODID:-//American Legion, Peter J Courcy Post 178 - ECPv6.15.20//NONSGML v1.0//EN
CALSCALE:GREGORIAN
METHOD:PUBLISH
X-ORIGINAL-URL:https://friscolegion.org
X-WR-CALDESC:Events for American Legion, Peter J Courcy Post 178
REFRESH-INTERVAL;VALUE=DURATION:PT1H
X-Robots-Tag:noindex
X-PUBLISHED-TTL:PT1H
BEGIN:VTIMEZONE
TZID:America/Chicago
BEGIN:DAYLIGHT
TZOFFSETFROM:-0600
TZOFFSETTO:-0500
TZNAME:CDT
DTSTART:20210314T080000
END:DAYLIGHT
BEGIN:STANDARD
TZOFFSETFROM:-0500
TZOFFSETTO:-0600
TZNAME:CST
DTSTART:20211107T070000
END:STANDARD
BEGIN:DAYLIGHT
TZOFFSETFROM:-0600
TZOFFSETTO:-0500
TZNAME:CDT
DTSTART:20220313T080000
END:DAYLIGHT
BEGIN:STANDARD
TZOFFSETFROM:-0500
TZOFFSETTO:-0600
TZNAME:CST
DTSTART:20221106T070000
END:STANDARD
BEGIN:DAYLIGHT
TZOFFSETFROM:-0600
TZOFFSETTO:-0500
TZNAME:CDT
DTSTART:20230312T080000
END:DAYLIGHT
BEGIN:STANDARD
TZOFFSETFROM:-0500
TZOFFSETTO:-0600
TZNAME:CST
DTSTART:20231105T070000
END:STANDARD
BEGIN:DAYLIGHT
TZOFFSETFROM:-0600
TZOFFSETTO:-0500
TZNAME:CDT
DTSTART:20240310T080000
END:DAYLIGHT
BEGIN:STANDARD
TZOFFSETFROM:-0500
TZOFFSETTO:-0600
TZNAME:CST
DTSTART:20241103T070000
END:STANDARD
BEGIN:DAYLIGHT
TZOFFSETFROM:-0600
TZOFFSETTO:-0500
TZNAME:CDT
DTSTART:20250309T080000
END:DAYLIGHT
BEGIN:STANDARD
TZOFFSETFROM:-0500
TZOFFSETTO:-0600
TZNAME:CST
DTSTART:20251102T070000
END:STANDARD
BEGIN:DAYLIGHT
TZOFFSETFROM:-0600
TZOFFSETTO:-0500
TZNAME:CDT
DTSTART:20260308T080000
END:DAYLIGHT
BEGIN:STANDARD
TZOFFSETFROM:-0500
TZOFFSETTO:-0600
TZNAME:CST
DTSTART:20261101T070000
END:STANDARD
END:VTIMEZONE
BEGIN:VEVENT
DTSTART;TZID=America/Chicago:20250519T183000
DTEND;TZID=America/Chicago:20250519T200000
DTSTAMP:20260421T085418
CREATED:20250224T134310Z
LAST-MODIFIED:20250502T141919Z
UID:9147-1747679400-1747684800@friscolegion.org
SUMMARY:Post Membership Meeting
DESCRIPTION:We will honor James Anderson USAF Ret. passing and our tribute to him and Thor and Ann Anderson by holding 13 folds of the flag ceremony with the presentation of the flag to Ann Anderson. \nView Obituary – https://www.legacy.com/us/obituaries/name/james-anderson-obituary?id=56859702 
URL:https://friscolegion.org/event/post-membership-meeting-24/
LOCATION:The Grove at Frisco Commons – Commons Hall\, 8300 McKinney Road\, Frisco\, TX\, 75034\, United States
CATEGORIES:Membership Meetings
END:VEVENT
BEGIN:VEVENT
DTSTART;TZID=America/Chicago:20250421T183000
DTEND;TZID=America/Chicago:20250421T200000
DTSTAMP:20260421T085418
CREATED:20250224T134209Z
LAST-MODIFIED:20250224T134209Z
UID:9146-1745260200-1745265600@friscolegion.org
SUMMARY:Post Membership Meeting
DESCRIPTION:
URL:https://friscolegion.org/event/post-membership-meeting-23/
LOCATION:The Grove at Frisco Commons – Commons Hall\, 8300 McKinney Road\, Frisco\, TX\, 75034\, United States
CATEGORIES:Membership Meetings
END:VEVENT
BEGIN:VEVENT
DTSTART;TZID=America/Chicago:20250317T183000
DTEND;TZID=America/Chicago:20250317T200000
DTSTAMP:20260421T085418
CREATED:20241220T151520Z
LAST-MODIFIED:20241220T151520Z
UID:8970-1742236200-1742241600@friscolegion.org
SUMMARY:Post Membership Meeting
DESCRIPTION:
URL:https://friscolegion.org/event/post-membership-meeting-22/
LOCATION:The Grove at Frisco Commons – Commons Hall\, 8300 McKinney Road\, Frisco\, TX\, 75034\, United States
CATEGORIES:Membership Meetings
END:VEVENT
BEGIN:VEVENT
DTSTART;TZID=America/Chicago:20250217T183000
DTEND;TZID=America/Chicago:20250217T200000
DTSTAMP:20260421T085418
CREATED:20241220T151353Z
LAST-MODIFIED:20241220T151353Z
UID:8968-1739817000-1739822400@friscolegion.org
SUMMARY:Post Membership Meeting
DESCRIPTION:
URL:https://friscolegion.org/event/post-membership-meeting-21/
LOCATION:The Grove at Frisco Commons – Commons Hall\, 8300 McKinney Road\, Frisco\, TX\, 75034\, United States
CATEGORIES:Membership Meetings
END:VEVENT
BEGIN:VEVENT
DTSTART;TZID=America/Chicago:20250113T183000
DTEND;TZID=America/Chicago:20250113T200000
DTSTAMP:20260421T085418
CREATED:20241204T202032Z
LAST-MODIFIED:20241204T202205Z
UID:8926-1736793000-1736798400@friscolegion.org
SUMMARY:Post Membership Meeting
DESCRIPTION:Monday\, January 20 is Martin Luther King Day\, and the Grove is closed.  \nOur January Membership Meeting is rescheduled to Monday\, January 13th
URL:https://friscolegion.org/event/post-membership-meeting-20/
LOCATION:The Grove at Frisco Commons – Commons Hall\, 8300 McKinney Road\, Frisco\, TX\, 75034\, United States
CATEGORIES:Membership Meetings
END:VEVENT
BEGIN:VEVENT
DTSTART;TZID=America/Chicago:20241118T183000
DTEND;TZID=America/Chicago:20241118T200000
DTSTAMP:20260421T085418
CREATED:20241022T170324Z
LAST-MODIFIED:20241022T170324Z
UID:8808-1731954600-1731960000@friscolegion.org
SUMMARY:Post Membership Meeting
DESCRIPTION:The Clyde W. Cosper Texas State Veterans Home Christmas Drive \nDonation items needed include: \nMen’ s new undershirts (sizes L\, XL)\nGriper nubby socks only (one size fits all)\nDeodorant\nBody Wash & shampoo combination (AXE or Dove tag brands at the Dollar store)\nToothbrush/toothpaste\nChocolate and hard candy (individual bags)\nAny salty snacks (individual bags)\nAssorted snack cakes\nPopcorn Kernels\nNuts in a small can or jar\nChapstick \nCash and purchased items should be turned in at the November 18\, 2022\, membership meeting\, held at The Grove at Frisco Commons\, Commons Hall\, 8300 McKinney Road\, Frisco\, Texas 75034.  You may also bring a check if you have not already mailed it in.  100% of donations to this fund will go to the Bonham Veterans Home.  These veterans will appreciate your generosity. No donation is too small\, and all are appreciated.
URL:https://friscolegion.org/event/post-membership-meeting-19/
LOCATION:The Grove at Frisco Commons – Commons Hall\, 8300 McKinney Road\, Frisco\, TX\, 75034\, United States
CATEGORIES:Membership Meetings
END:VEVENT
BEGIN:VEVENT
DTSTART;TZID=America/Chicago:20241021T183000
DTEND;TZID=America/Chicago:20241021T200000
DTSTAMP:20260421T085418
CREATED:20240712T171758Z
LAST-MODIFIED:20240712T171758Z
UID:8557-1729535400-1729540800@friscolegion.org
SUMMARY:Post Membership Meeting
DESCRIPTION:
URL:https://friscolegion.org/event/post-membership-meeting-18/
LOCATION:The Grove at Frisco Commons – Commons Hall\, 8300 McKinney Road\, Frisco\, TX\, 75034\, United States
CATEGORIES:Membership Meetings
END:VEVENT
BEGIN:VEVENT
DTSTART;TZID=America/Chicago:20240916T183000
DTEND;TZID=America/Chicago:20240916T200000
DTSTAMP:20260421T085418
CREATED:20240712T171648Z
LAST-MODIFIED:20240712T171648Z
UID:8556-1726511400-1726516800@friscolegion.org
SUMMARY:Post Membership Meeting
DESCRIPTION:
URL:https://friscolegion.org/event/post-membership-meeting-17/
LOCATION:The Grove at Frisco Commons – Commons Hall\, 8300 McKinney Road\, Frisco\, TX\, 75034\, United States
CATEGORIES:Membership Meetings
END:VEVENT
BEGIN:VEVENT
DTSTART;TZID=America/Chicago:20240819T183000
DTEND;TZID=America/Chicago:20240819T200000
DTSTAMP:20260421T085418
CREATED:20240625T141943Z
LAST-MODIFIED:20240625T141943Z
UID:8507-1724092200-1724097600@friscolegion.org
SUMMARY:Post Membership Meeting
DESCRIPTION:
URL:https://friscolegion.org/event/post-membership-meeting-16/
LOCATION:The Grove at Frisco Commons – Commons Hall\, 8300 McKinney Road\, Frisco\, TX\, 75034\, United States
CATEGORIES:Membership Meetings
END:VEVENT
BEGIN:VEVENT
DTSTART;TZID=America/Chicago:20240715T183000
DTEND;TZID=America/Chicago:20240715T200000
DTSTAMP:20260421T085418
CREATED:20240413T140715Z
LAST-MODIFIED:20240413T140715Z
UID:8361-1721068200-1721073600@friscolegion.org
SUMMARY:Post Membership Meeting
DESCRIPTION:
URL:https://friscolegion.org/event/post-membership-meeting-15/
LOCATION:The Grove at Frisco Commons – Commons Hall\, 8300 McKinney Road\, Frisco\, TX\, 75034\, United States
CATEGORIES:Membership Meetings
END:VEVENT
BEGIN:VEVENT
DTSTART;TZID=America/Chicago:20240617T183000
DTEND;TZID=America/Chicago:20240617T200000
DTSTAMP:20260421T085418
CREATED:20240413T140412Z
LAST-MODIFIED:20240521T023601Z
UID:8360-1718649000-1718654400@friscolegion.org
SUMMARY:Post Membership Meeting
DESCRIPTION:Post elections will be held at our June 17 Membership meeting. If you are interested in running for an office\, please download the Executive Officer Filing Form at https://drive.google.com/file/d/1sXsVHnUFtOsJhsWib-_pnvRBNN3Oosxy/view?usp=sharing. \nAfter you complete the form print it out to sign\, then send the completed form to Jose Torres at info@friscolegion.org
URL:https://friscolegion.org/event/post-membership-meeting-14/
LOCATION:The Grove at Frisco Commons – Commons Hall\, 8300 McKinney Road\, Frisco\, TX\, 75034\, United States
CATEGORIES:Membership Meetings
END:VEVENT
BEGIN:VEVENT
DTSTART;TZID=America/Chicago:20240520T183000
DTEND;TZID=America/Chicago:20240520T200000
DTSTAMP:20260421T085418
CREATED:20240302T153727Z
LAST-MODIFIED:20240302T153727Z
UID:8225-1716229800-1716235200@friscolegion.org
SUMMARY:Post Membership Meeting
DESCRIPTION:
URL:https://friscolegion.org/event/post-membership-meeting-13/
LOCATION:The Grove at Frisco Commons – Commons Hall\, 8300 McKinney Road\, Frisco\, TX\, 75034\, United States
CATEGORIES:Membership Meetings
END:VEVENT
BEGIN:VEVENT
DTSTART;TZID=America/Chicago:20240415T183000
DTEND;TZID=America/Chicago:20240415T200000
DTSTAMP:20260421T085418
CREATED:20240302T153628Z
LAST-MODIFIED:20240302T153628Z
UID:8224-1713205800-1713211200@friscolegion.org
SUMMARY:Post Membership Meeting
DESCRIPTION:
URL:https://friscolegion.org/event/post-membership-meeting-12/
LOCATION:The Grove at Frisco Commons – Commons Hall\, 8300 McKinney Road\, Frisco\, TX\, 75034\, United States
CATEGORIES:Membership Meetings
END:VEVENT
BEGIN:VEVENT
DTSTART;TZID=America/Chicago:20240318T183000
DTEND;TZID=America/Chicago:20240318T200000
DTSTAMP:20260421T085418
CREATED:20240226T131419Z
LAST-MODIFIED:20240226T131419Z
UID:8219-1710786600-1710792000@friscolegion.org
SUMMARY:Post Membership Meeting
DESCRIPTION:
URL:https://friscolegion.org/event/post-membership-meeting-11/
LOCATION:The Grove at Frisco Commons – Commons Hall\, 8300 McKinney Road\, Frisco\, TX\, 75034\, United States
CATEGORIES:Membership Meetings
END:VEVENT
BEGIN:VEVENT
DTSTART;TZID=America/Chicago:20240219T183000
DTEND;TZID=America/Chicago:20240219T200000
DTSTAMP:20260421T085418
CREATED:20240112T173112Z
LAST-MODIFIED:20240112T173200Z
UID:8189-1708367400-1708372800@friscolegion.org
SUMMARY:Post Membership Meeting
DESCRIPTION:
URL:https://friscolegion.org/event/post-membership-meeting-10/
LOCATION:The Grove at Frisco Commons – Commons Hall\, 8300 McKinney Road\, Frisco\, TX\, 75034\, United States
CATEGORIES:Membership Meetings
END:VEVENT
BEGIN:VEVENT
DTSTART;TZID=America/Chicago:20240116T183000
DTEND;TZID=America/Chicago:20240116T200000
DTSTAMP:20260421T085418
CREATED:20231117T155434Z
LAST-MODIFIED:20240112T173409Z
UID:8146-1705429800-1705435200@friscolegion.org
SUMMARY:Post Membership Meeting CANCELLED
DESCRIPTION:Jan 2024 Meeting is CANCELLED due to weather.
URL:https://friscolegion.org/event/post-membership-meeting-9/
LOCATION:The Grove at Frisco Commons – Commons Hall\, 8300 McKinney Road\, Frisco\, TX\, 75034\, United States
CATEGORIES:Membership Meetings
END:VEVENT
BEGIN:VEVENT
DTSTART;TZID=America/Chicago:20231128T183000
DTEND;TZID=America/Chicago:20231128T200000
DTSTAMP:20260421T085418
CREATED:20230905T124820Z
LAST-MODIFIED:20231115T191733Z
UID:8051-1701196200-1701201600@friscolegion.org
SUMMARY:Post Membership Meeting
DESCRIPTION:Election of Post 178 Sergeant At Arms
URL:https://friscolegion.org/event/post-membership-meeting-8/
LOCATION:The Grove at Frisco Commons – Commons Hall\, 8300 McKinney Road\, Frisco\, TX\, 75034\, United States
CATEGORIES:Membership Meetings
END:VEVENT
BEGIN:VEVENT
DTSTART;TZID=America/Chicago:20231016T183000
DTEND;TZID=America/Chicago:20231016T200000
DTSTAMP:20260421T085418
CREATED:20230905T124646Z
LAST-MODIFIED:20230905T124646Z
UID:8050-1697481000-1697486400@friscolegion.org
SUMMARY:Post Membership Meeting
DESCRIPTION:
URL:https://friscolegion.org/event/post-membership-meeting-7/
LOCATION:The Grove at Frisco Commons – Commons Hall\, 8300 McKinney Road\, Frisco\, TX\, 75034\, United States
CATEGORIES:Membership Meetings
END:VEVENT
BEGIN:VEVENT
DTSTART;TZID=America/Chicago:20230918T183000
DTEND;TZID=America/Chicago:20230918T200000
DTSTAMP:20260421T085418
CREATED:20230821T161621Z
LAST-MODIFIED:20230821T161621Z
UID:8042-1695061800-1695067200@friscolegion.org
SUMMARY:Post Membership Meeting
DESCRIPTION:
URL:https://friscolegion.org/event/post-membership-meeting-6/
LOCATION:The Grove at Frisco Commons – Commons Hall\, 8300 McKinney Road\, Frisco\, TX\, 75034\, United States
CATEGORIES:Membership Meetings
END:VEVENT
BEGIN:VEVENT
DTSTART;TZID=America/Chicago:20230821T183000
DTEND;TZID=America/Chicago:20230821T200000
DTSTAMP:20260421T085418
CREATED:20230713T154932Z
LAST-MODIFIED:20230713T154932Z
UID:7992-1692642600-1692648000@friscolegion.org
SUMMARY:Post Membership Meeting
DESCRIPTION:
URL:https://friscolegion.org/event/post-membership-meeting-5/
LOCATION:The Grove at Frisco Commons – Commons Hall\, 8300 McKinney Road\, Frisco\, TX\, 75034\, United States
CATEGORIES:Membership Meetings
END:VEVENT
BEGIN:VEVENT
DTSTART;TZID=America/Chicago:20230717T183000
DTEND;TZID=America/Chicago:20230717T200000
DTSTAMP:20260421T085418
CREATED:20230601T195223Z
LAST-MODIFIED:20230601T195223Z
UID:7949-1689618600-1689624000@friscolegion.org
SUMMARY:Post Membership Meeting
DESCRIPTION:
URL:https://friscolegion.org/event/post-membership-meeting-4/
LOCATION:The Grove at Frisco Commons – Commons Hall\, 8300 McKinney Road\, Frisco\, TX\, 75034\, United States
CATEGORIES:Membership Meetings
END:VEVENT
BEGIN:VEVENT
DTSTART;TZID=America/Chicago:20230515T183000
DTEND;TZID=America/Chicago:20230515T200000
DTSTAMP:20260421T085418
CREATED:20230319T165114Z
LAST-MODIFIED:20230426T170545Z
UID:7888-1684175400-1684180800@friscolegion.org
SUMMARY:Post Membership Meeting
DESCRIPTION: 
URL:https://friscolegion.org/event/post-membership-meeting-3/
LOCATION:The Grove at Frisco Commons – Commons Hall\, 8300 McKinney Road\, Frisco\, TX\, 75034\, United States
CATEGORIES:Membership Meetings
END:VEVENT
BEGIN:VEVENT
DTSTART;TZID=America/Chicago:20230320T183000
DTEND;TZID=America/Chicago:20230320T200000
DTSTAMP:20260421T085418
CREATED:20230319T164013Z
LAST-MODIFIED:20230426T170546Z
UID:7885-1679337000-1679342400@friscolegion.org
SUMMARY:Post Membership Meeting
DESCRIPTION: 
URL:https://friscolegion.org/event/post-membership-meeting/
LOCATION:The Grove at Frisco Commons – Commons Hall\, 8300 McKinney Road\, Frisco\, TX\, 75034\, United States
CATEGORIES:Membership Meetings
END:VEVENT
BEGIN:VEVENT
DTSTART;TZID=America/Chicago:20221017T183000
DTEND;TZID=America/Chicago:20221017T194500
DTSTAMP:20260421T085418
CREATED:20221011T180010Z
LAST-MODIFIED:20230426T170547Z
UID:7804-1666031400-1666035900@friscolegion.org
SUMMARY:Membership Meeting
DESCRIPTION:American Legion Riders will be collecting donated Teddy Bears from the Post and ALA for the Children’s Advocacy Center of Collin County
URL:https://friscolegion.org/event/membership-meeting-2/
LOCATION:The Grove at Frisco Commons – Commons Hall\, 8300 McKinney Road\, Frisco\, TX\, 75034\, United States
CATEGORIES:Membership Meetings
ORGANIZER;CN="Adjutant":MAILTO:info@FriscoLegion.com
END:VEVENT
BEGIN:VEVENT
DTSTART;TZID=America/Chicago:20220815T133000
DTEND;TZID=America/Chicago:20220815T150000
DTSTAMP:20260421T085418
CREATED:20220812T234110Z
LAST-MODIFIED:20220812T234537Z
UID:7783-1660570200-1660575600@friscolegion.org
SUMMARY:Membership Meeting
DESCRIPTION:
URL:https://friscolegion.org/event/membership-meeting/
LOCATION:The Grove at Frisco Commons – Commons Hall\, 8300 McKinney Road\, Frisco\, TX\, 75034\, United States
CATEGORIES:Membership Meetings
END:VEVENT
END:VCALENDAR